BEGIN:VCALENDAR
VERSION:2.0
PRODID:-//Squarespace Inc/Squarespace 6//v6//EN
BEGIN:VEVENT
UID:5a9ff21d419202557daebafa@squarespace.com
DTSTAMP:20180416T070527Z
DTSTART:20180327T083000Z
DTEND:20180327T093000Z
SUMMARY:Lancement de la campagne RETHINK YOUR CLOTHES
GEO:49.609526;6.132576
LOCATION:Direction de la coopération au développement et de l’action humani
 taire\, 6\, Rue de la Congrégation\, Luxembourg\, District de Luxembourg\, 
 1352\, Luxembourg
END:VEVENT
END:VCALENDAR
