BEGIN:VCALENDAR
VERSION:2.0
PRODID:-//Squarespace Inc/Squarespace 6//v6//EN
BEGIN:VEVENT
UID:5ab8effb562fa76c9b09ddea@squarespace.com
DTSTAMP:20180412T130211Z
DTSTART:20180424T101500Z
DTEND:20180425T104500Z
SUMMARY:Commémoration des 5 ans de Rana Plaza 
GEO:49.611292;6.129662
LOCATION:Places d’Armes\, Luxembourg\, Luxembourg
END:VEVENT
END:VCALENDAR
