BEGIN:VCALENDAR
VERSION:2.0
PRODID:-//Squarespace Inc/Squarespace 6//v6//EN
BEGIN:VEVENT
UID:5ab8f1e1758d46cbe6532154@squarespace.com
DTSTAMP:20180326T132205Z
DTSTART:20180429T090000Z
DTEND:20180429T150000Z
SUMMARY:Vide-Dressing avec Rethink Your Clothes
GEO:49.600589;6.137464
LOCATION:Rotondes\, Rue de la Rotonde\, Luxembourg\, District de Luxembourg
 \, 2448\, Luxembourg
END:VEVENT
END:VCALENDAR
