BEGIN:VCALENDAR
VERSION:2.0
PRODID:-//Squarespace Inc/Squarespace 6//v6//EN
BEGIN:VEVENT
UID:5af01fda2b6a281d80dc6c1c@squarespace.com
DTSTAMP:20180517T100115Z
DTSTART:20180613T163000Z
DTEND:20180613T200000Z
SUMMARY:ReClothes: Soirée upcycling
GEO:49.600589;6.137464
LOCATION:Rotondes\, Rue de la Rotonde\, Luxembourg\, District de Luxembourg
 \, 2448\, Luxembourg
END:VEVENT
END:VCALENDAR
