BEGIN:VCALENDAR
VERSION:2.0
PRODID:-//Squarespace Inc/Squarespace 6//v6//EN
BEGIN:VEVENT
UID:5af021a4562fa779ed12b3eb@squarespace.com
DTSTAMP:20180516T085839Z
DTSTART:20180616T120000Z
DTEND:20180617T160000Z
SUMMARY:Fête de la nature
GEO:49.556324;6.107006
LOCATION:Maison de la nature\, 5\, Route de Luxembourg\, Kockelscheuer\, Di
 strict de Luxembourg\, 1899\, Luxembourg
END:VEVENT
END:VCALENDAR
