BEGIN:VCALENDAR
VERSION:2.0
PRODID:-//Squarespace Inc/Squarespace 6//v6//EN
BEGIN:VEVENT
UID:5af01bcc575d1f581deeabfb@squarespace.com
DTSTAMP:20180516T091956Z
DTSTART:20180609T100000Z
DTEND:20180609T190000Z
SUMMARY:Festival de l'Esprit Critique
GEO:49.609661;6.132859
LOCATION:Place de Clairefontaine\, Luxembourg\, District de Luxembourg\, 14
 75\, Luxembourg
END:VEVENT
END:VCALENDAR
